Workbook

Sheet Inputs
A1: Input | B1: Value | C1: Month | D1: Seasonality weight
A2: Annual income goal ($) | B2: 120000 | C2: Jan | D2: 0.7
A3: Average commission per sale ($) | B3: 850 | C3: Feb | D3: 0.8
A4: Lead → appointment rate | B4: 0.3 | C4: Mar | D4: 1
A5: Appointment show rate | B5: 0.8 | C5: Apr | D5: 1.1
A6: Close rate | B6: 0.25 | C6: May | D6: 1.1
A7: Working weeks per year | B7: 48 | C7: Jun | D7: 1
A8: Working days per week | B8: 5 | C8: Jul | D8: 0.8
C9: Aug | D9: 0.8
C10: Sep | D10: 1.1
C11: Oct | D11: 1.2
C12: Nov | D12: 1.2
C13: Dec | D13: 0.9

Sheet Plan
A1: Metric | B1: Value
A2: Sales needed | B2: =ROUNDUP(Inputs!B2/Inputs!B3,0) -> 142
A3: Appointments held | B3: =ROUNDUP(B2/Inputs!B6,0) -> 568
A4: Appointments booked | B4: =ROUNDUP(B3/Inputs!B5,0) -> 710
A5: Leads needed | B5: =ROUNDUP(B4/Inputs!B4,0) -> 2367
A6: Sales per week | B6: =ROUND(B2/Inputs!B7,1) -> 3
A7: Appointments per week | B7: =ROUND(B3/Inputs!B7,1) -> 11.8
A8: Leads per week | B8: =ROUND(B5/Inputs!B7,1) -> 49.3
A9: Leads per working day | B9: =ROUND(B5/(Inputs!B7*Inputs!B8),1) -> 9.9
A10: Projected income ($) | B10: =B2*Inputs!B3 -> 120700
A11: Surplus over goal ($) | B11: =B10-Inputs!B2 -> 700
A13: Month | B13: Share | C13: Income target ($) | D13: Sales | E13: Appointments | F13: Leads
A14: =Inputs!C2 -> Jan | B14: =Inputs!D2/SUM(Inputs!$D$2:$D$13) -> 0.05982906 | C14: =ROUND(Inputs!$B$2*B14,2) -> 7179.49 | D14: =ROUND($B$2*B14,1) -> 8.5 | E14: =ROUND($B$3*B14,1) -> 34 | F14: =ROUND($B$5*B14,1) -> 141.6
A15: =Inputs!C3 -> Feb | B15: =Inputs!D3/SUM(Inputs!$D$2:$D$13) -> 0.068376068 | C15: =ROUND(Inputs!$B$2*B15,2) -> 8205.13 | D15: =ROUND($B$2*B15,1) -> 9.7 | E15: =ROUND($B$3*B15,1) -> 38.8 | F15: =ROUND($B$5*B15,1) -> 161.8
A16: =Inputs!C4 -> Mar | B16: =Inputs!D4/SUM(Inputs!$D$2:$D$13) -> 0.085470085 | C16: =ROUND(Inputs!$B$2*B16,2) -> 10256.41 | D16: =ROUND($B$2*B16,1) -> 12.1 | E16: =ROUND($B$3*B16,1) -> 48.5 | F16: =ROUND($B$5*B16,1) -> 202.3
A17: =Inputs!C5 -> Apr | B17: =Inputs!D5/SUM(Inputs!$D$2:$D$13) -> 0.094017094 | C17: =ROUND(Inputs!$B$2*B17,2) -> 11282.05 | D17: =ROUND($B$2*B17,1) -> 13.4 | E17: =ROUND($B$3*B17,1) -> 53.4 | F17: =ROUND($B$5*B17,1) -> 222.5
A18: =Inputs!C6 -> May | B18: =Inputs!D6/SUM(Inputs!$D$2:$D$13) -> 0.094017094 | C18: =ROUND(Inputs!$B$2*B18,2) -> 11282.05 | D18: =ROUND($B$2*B18,1) -> 13.4 | E18: =ROUND($B$3*B18,1) -> 53.4 | F18: =ROUND($B$5*B18,1) -> 222.5
A19: =Inputs!C7 -> Jun | B19: =Inputs!D7/SUM(Inputs!$D$2:$D$13) -> 0.085470085 | C19: =ROUND(Inputs!$B$2*B19,2) -> 10256.41 | D19: =ROUND($B$2*B19,1) -> 12.1 | E19: =ROUND($B$3*B19,1) -> 48.5 | F19: =ROUND($B$5*B19,1) -> 202.3
A20: =Inputs!C8 -> Jul | B20: =Inputs!D8/SUM(Inputs!$D$2:$D$13) -> 0.068376068 | C20: =ROUND(Inputs!$B$2*B20,2) -> 8205.13 | D20: =ROUND($B$2*B20,1) -> 9.7 | E20: =ROUND($B$3*B20,1) -> 38.8 | F20: =ROUND($B$5*B20,1) -> 161.8
A21: =Inputs!C9 -> Aug | B21: =Inputs!D9/SUM(Inputs!$D$2:$D$13) -> 0.068376068 | C21: =ROUND(Inputs!$B$2*B21,2) -> 8205.13 | D21: =ROUND($B$2*B21,1) -> 9.7 | E21: =ROUND($B$3*B21,1) -> 38.8 | F21: =ROUND($B$5*B21,1) -> 161.8
A22: =Inputs!C10 -> Sep | B22: =Inputs!D10/SUM(Inputs!$D$2:$D$13) -> 0.094017094 | C22: =ROUND(Inputs!$B$2*B22,2) -> 11282.05 | D22: =ROUND($B$2*B22,1) -> 13.4 | E22: =ROUND($B$3*B22,1) -> 53.4 | F22: =ROUND($B$5*B22,1) -> 222.5
A23: =Inputs!C11 -> Oct | B23: =Inputs!D11/SUM(Inputs!$D$2:$D$13) -> 0.1025641 | C23: =ROUND(Inputs!$B$2*B23,2) -> 12307.69 | D23: =ROUND($B$2*B23,1) -> 14.6 | E23: =ROUND($B$3*B23,1) -> 58.3 | F23: =ROUND($B$5*B23,1) -> 242.8
A24: =Inputs!C12 -> Nov | B24: =Inputs!D12/SUM(Inputs!$D$2:$D$13) -> 0.1025641 | C24: =ROUND(Inputs!$B$2*B24,2) -> 12307.69 | D24: =ROUND($B$2*B24,1) -> 14.6 | E24: =ROUND($B$3*B24,1) -> 58.3 | F24: =ROUND($B$5*B24,1) -> 242.8
A25: =Inputs!C13 -> Dec | B25: =Inputs!D13/SUM(Inputs!$D$2:$D$13) -> 0.076923077 | C25: =ROUND(Inputs!$B$2*B25,2) -> 9230.77 | D25: =ROUND($B$2*B25,1) -> 10.9 | E25: =ROUND($B$3*B25,1) -> 43.7 | F25: =ROUND($B$5*B25,1) -> 182.1
A26: Total | B26: =SUM(B14:B25) -> 1 | C26: =SUM(C14:C25) -> 120000 | D26: =SUM(D14:D25) -> 142.1 | E26: =SUM(E14:E25) -> 567.9 | F26: =SUM(F14:F25) -> 2366.8
